BEGIN:VCALENDAR
VERSION:2.0
PRODID:-//New Directions - ECPv6.15.17.1//NONSGML v1.0//EN
CALSCALE:GREGORIAN
METHOD:PUBLISH
X-WR-CALNAME:New Directions
X-ORIGINAL-URL:https://newdirectionsinwriting.com
X-WR-CALDESC:Events for New Directions
REFRESH-INTERVAL;VALUE=DURATION:PT1H
X-Robots-Tag:noindex
X-PUBLISHED-TTL:PT1H
BEGIN:VTIMEZONE
TZID:UTC
BEGIN:STANDARD
TZOFFSETFROM:+0000
TZOFFSETTO:+0000
TZNAME:UTC
DTSTART:20200101T000000
END:STANDARD
END:VTIMEZONE
BEGIN:VEVENT
DTSTART;TZID=UTC:20210902T080000
DTEND;TZID=UTC:20210902T170000
DTSTAMP:20260420T232847
CREATED:20230401T104011Z
LAST-MODIFIED:20230401T104011Z
UID:905-1630569600-1630602000@newdirectionsinwriting.com
SUMMARY:Inspire Your Memoir Writing through Visual Art Mary Hall Surface
DESCRIPTION:Visual art can offer rich inspiration for writing\, just as writing can deepen your connection to a work of art. Join Mary Hall Surface\, popular creative writing instructor for the Smithsonian Associates\, the National Gallery of Art\, the Kennedy Center and more\, for a close look at Romare Bearden’s Tomorrow I May be Far Away and Joan Miro’s The Farm. Discover how memory and metaphors inform the paintings and can inspire your own memoir writing. Participants engage with the art through multi-sensory exploration\, word sketching\, and diverse writing prompts crafted to discover inspiring aspects of the paintings and to uncover new potentials as writers. \n  \nMary Hall Surface\, teaching artist\, playwright\, and theatre director\, presents workshops nationwide as a Kennedy Center teaching artist\, as a Smithsonian Associates guest artist\, as the founding instructor of the National Gallery of Art’s Writing Salon\, and as a faculty member of Harvard’s Project Zero Classroom\, 2014- 19. Her plays have been produced at theatres\, museums\, and festivals throughout the US\, Europe\, Japan\, Taiwan and Canada\, including 17 productions at the Kennedy Center. She has written and directed live plays for the National Gallery of Art inspired by visual art. She has been nominated for nine Helen Hayes Awards\, receiving the 2002 Outstanding Director of a Musical. Mary Hall has published 12 plays\, 3 original cast albums\, 2 collections of scenes and monologues\, an anthology of her plays and numerous articles. She was the founding artistic director of the DC’s Atlas INTERSECTIONS Festival and was a member of Arena Stage’s 2017 Playwrights’ Arena. The National Gallery of Arts’ Writing Salon was featured in April in The Washington Post Magazine. www.maryhallsurface.com
URL:https://newdirectionsinwriting.com/event/inspire-your-memoir-writing-through-visual-art-mary-hall-surface/
CATEGORIES:Thursday Writing Workshop
END:VEVENT
END:VCALENDAR