BEGIN:VCALENDAR
VERSION:2.0
PRODID:-//New Directions - ECPv6.15.17.1//NONSGML v1.0//EN
CALSCALE:GREGORIAN
METHOD:PUBLISH
X-WR-CALNAME:New Directions
X-ORIGINAL-URL:https://newdirectionsinwriting.com
X-WR-CALDESC:Events for New Directions
REFRESH-INTERVAL;VALUE=DURATION:PT1H
X-Robots-Tag:noindex
X-PUBLISHED-TTL:PT1H
BEGIN:VTIMEZONE
TZID:UTC
BEGIN:STANDARD
TZOFFSETFROM:+0000
TZOFFSETTO:+0000
TZNAME:UTC
DTSTART:20170101T000000
END:STANDARD
END:VTIMEZONE
BEGIN:VEVENT
DTSTART;VALUE=DATE:20180503
DTEND;VALUE=DATE:20180504
DTSTAMP:20260420T233155
CREATED:20230220T184117Z
LAST-MODIFIED:20230221T083955Z
UID:518-1525305600-1525391999@newdirectionsinwriting.com
SUMMARY:The Depth of Myth\, the Freedom of Mask – Marie Howe
DESCRIPTION:Poets and writers sometimes enter other stories in order to more deeply investigate their own. Some look to the old stories in the ancient books of the Torah\, the Bible\, or the Koran – and in characters as complex as Eve\, or Cain\, or Abraham\, or Isaac\, Lot\, Mary\, or Mary Magdalene. Some look to stories encountered in the Greek myths\, in characters like Persephone\, or Narcissus\, or Echo\, or to Fairy Tales\, with their sleeping princesses and wolves and stepmothers and witches. These archetypes are complex and roomy. By wearing the mask of a character we feel drawn to\, we are able to investigate our own bewilderments with more freedom. By imagining the plight of a persona we inhabit we might find ourselves writing into the unknown\, and writing into the unknown often brings illumination\, joy\, and understanding. \nThrough a series of writing prompts\, (and inspired by examples) we will choose one or two or a series of characters we know from old stories or myths and write our way into what we didn’t know. We will have a wonderful time. \nMarie Howe is the author of four volumes of poetry: Magdalene: Poems (W.W. Norton\, 2017); The Kingdom of Ordinary Time (W.W. Norton\, 2009); What the Living Do (1997); and The Good Thief (1988). She is also the co-editor of essays\, In the Company of My Solitude: American Writing from the AIDS Pandemic (1994). She was New York State Poet Laureate from 2012-2014.
URL:https://newdirectionsinwriting.com/event/the-depth-of-myth-the-freedom-of-mask-marie-howe/
LOCATION:Residence Inn by Marriott\, 1401 N Adams St\, Arlington\, VA 22201\, Arlington\, VA\, 22201\, United States
CATEGORIES:Thursday Writing Workshop
END:VEVENT
END:VCALENDAR