BEGIN:VCALENDAR
VERSION:2.0
PRODID:-//New Directions - ECPv6.15.17.1//NONSGML v1.0//EN
CALSCALE:GREGORIAN
METHOD:PUBLISH
X-WR-CALNAME:New Directions
X-ORIGINAL-URL:https://newdirectionsinwriting.com
X-WR-CALDESC:Events for New Directions
REFRESH-INTERVAL;VALUE=DURATION:PT1H
X-Robots-Tag:noindex
X-PUBLISHED-TTL:PT1H
BEGIN:VTIMEZONE
TZID:America/New_York
BEGIN:DAYLIGHT
TZOFFSETFROM:-0500
TZOFFSETTO:-0400
TZNAME:EDT
DTSTART:20220313T070000
END:DAYLIGHT
BEGIN:STANDARD
TZOFFSETFROM:-0400
TZOFFSETTO:-0500
TZNAME:EST
DTSTART:20221106T060000
END:STANDARD
BEGIN:DAYLIGHT
TZOFFSETFROM:-0500
TZOFFSETTO:-0400
TZNAME:EDT
DTSTART:20230312T070000
END:DAYLIGHT
BEGIN:STANDARD
TZOFFSETFROM:-0400
TZOFFSETTO:-0500
TZNAME:EST
DTSTART:20231105T060000
END:STANDARD
BEGIN:DAYLIGHT
TZOFFSETFROM:-0500
TZOFFSETTO:-0400
TZNAME:EDT
DTSTART:20240310T070000
END:DAYLIGHT
BEGIN:STANDARD
TZOFFSETFROM:-0400
TZOFFSETTO:-0500
TZNAME:EST
DTSTART:20241103T060000
END:STANDARD
END:VTIMEZONE
BEGIN:VEVENT
DTSTART;TZID=America/New_York:20230303T130000
DTEND;TZID=America/New_York:20230303T170000
DTSTAMP:20260420T195324
CREATED:20230216T224216Z
LAST-MODIFIED:20230226T135014Z
UID:235-1677848400-1677862800@newdirectionsinwriting.com
SUMMARY:Why Aren't You Laughing? with Cindy House
DESCRIPTION:Humor is one of the most challenging things to write. In this class\, we will break down various pieces of writing and evaluate what works or doesn’t work. How can we look at our own lives and put down on paper the details and moments that will make other people laugh? It is possible to take the same memory or scene from our actual experience and write it with a slant for humor or tragedy simply by shifting our view and choosing different focal points and details. Through works by Jen Beagin\, Halle Butler\, David Sedaris\, and others\, we will parse out some habits and tools to apply to our own writing in an effort to make work that moves and amuses. \nCindy House is a writer and regular opener for David Sedaris on his lecture tours across the country. She studied at the School of the Art Institute of Chicago as an undergrad and earned her MFA in fiction from Lesley University in 2017. She was the 2018 recipient of the St. Botolph emerging artist award and appeared on the Tamron Hall show last spring. Her debut book\, Mother Noise\, was published in May of 2022. She lives in New Haven\, CT with her teenage son.
URL:https://newdirectionsinwriting.com/event/why-arent-you-laughing-with-cindy-house/
LOCATION:Via Zoom\, Video Conference
CATEGORIES:Zoom Writing Workshop
END:VEVENT
END:VCALENDAR